Workbook
Name _Toc217116400: '1. Budget Guidelines'!#REF!
Name _Toc217116403: '1. Budget Guidelines'!#REF!
Name _Toc217116405: '1. Budget Guidelines'!#REF!

Sheet 1.  Budget Guidelines
A1: BUDGET GUIDELINES
A3: In addition to the budget information required on the SF-424A, applicants must provide the following three elements as part of the budget submission:
A4: A. Summary Budget (Note: using the OMB cost categories, see SF-424A)
A5: B. Detailed Line-Item Budget (Direct and Indirect Costs)
A6: C. Budget Narrative
A8: A. Summary Budget (Note: TEMPLATE ON TAB 2, auto fills from TAB 3 "Detailed Budget Template")
A10: B. Detailed Line-Item Budget (Note: TEMPLATE ON TAB 3)
A11: Note: Applicants must provide a Detailed Line-Item Budget (in Microsoft Excel or similar spreadsheet format) outlining specific cost requirements within each of the summary budget categories.
A12: · Calibri 12 font; must fit on 8x11 letter sized paper, not legal size. Once approved, the budget will be incorporated as a PDF into the binding agreement.
A13: · If applicable, Cost-Share should be itemized in the separate column. See below for more details on Cost-Share.
A14: · The budget should be for the entire project period and reflect realistic yearly expenses based on project need and the approved timeline.
A15: · All sub-award costs should be listed under Line F, Contractual, of the prime budget. A separated itemized breakdown of costs should be provided in the “SubRecipient Budget” tab.
... A217: 2 CFR §600: eCFR :: 2 CFR Chapter VI -- Department of State

Sheet 2. Summary Budget Template
A1: SAMPLE SUMMARY BUDGET
A2: Organization Name
A3: Project Title
A4: Project Duration
D5: Federal Request | E5: Cost Share | F5: Total Project Budget
A7: A | C7: Personnel | D7: ='3. Detailed Budget Template'!S19 -> 15600 | E7: ='3. Detailed Budget Template'!T19 -> 100 | F7: ='3. Detailed Budget Template'!U19 -> 15700
A8: B | C8: Fringe Benefits | D8: ='3. Detailed Budget Template'!S22 -> 0 | E8: ='3. Detailed Budget Template'!T23 -> 0 | F8: ='3. Detailed Budget Template'!U23 -> 732
A9: C | C9: Travel | D9: ='3. Detailed Budget Template'!S40 -> 9000 | E9: ='3. Detailed Budget Template'!T40 -> 0 | F9: ='3. Detailed Budget Template'!U40 -> 9000
A10: D | C10: Equipment | D10: ='3. Detailed Budget Template'!S49 -> 178100 | E10: ='3. Detailed Budget Template'!T49 -> 0 | F10: ='3. Detailed Budget Template'!U49 -> 178100
A11: E | C11: Supplies | D11: ='3. Detailed Budget Template'!S56 -> 3430 | E11: ='3. Detailed Budget Template'!T56 -> 0 | F11: ='3. Detailed Budget Template'!U56 -> 3430
A12: F | C12: Contractual | D12: ='3. Detailed Budget Template'!S65 -> 201000 | E12: ='3. Detailed Budget Template'!T65 -> 0 | F12: ='3. Detailed Budget Template'!U65 -> 201000
A13: G | C13: Construction | D13: ='3. Detailed Budget Template'!S72 -> 0 | E13: ='3. Detailed Budget Template'!T72 -> 0 | F13: ='3. Detailed Budget Template'!U72 -> 0
A14: H | C14: Other Direct Costs | D14: ='3. Detailed Budget Template'!S79 -> 1501.61 | E14: ='3. Detailed Budget Template'!T79 -> 0 | F14: ='3. Detailed Budget Template'!U79 -> 1501.61
A15: I | C15: Total Direct Costs | D15: ='3. Detailed Budget Template'!S80 -> 409363.61 | E15: ='3. Detailed Budget Template'!T80 -> 100 | F15: ='3. Detailed Budget Template'!U80 -> 409463.61
A16: J | C16: Total Indirect Costs | D16: ='3. Detailed Budget Template'!S81 -> 61404.541 | E16: ='3. Detailed Budget Template'!T81 -> 0 | F16: ='3. Detailed Budget Template'!U81 -> 61404.541
A17: K | C17: Total (Sum I + J) | D17: ='3. Detailed Budget Template'!S82 -> 470768.15 | E17: ='3. Detailed Budget Template'!T82 -> 100 | F17: ='3. Detailed Budget Template'!U82 -> 470868.15
A19: * line item amounts auto-fill from "Detailed Grant Budget Template" tab

Sheet 3. Detailed Budget Template
A1: DETAILED LINE-ITEM BUDGET
A2: Organization's Name | P2: Organization Name
A3: Project Title | P3: Project Title
A4: Project Duration | P4: Project Title
D6: Cost Breakdown | H6: Year 1 | I6: Cost Breakdown | M6: Year 2 | N6: Cost Breakdown | R6: Year 3 | S6: Total Requested Federal Funds | T6: Cost-Share by Applicant | U6: Program Total
D7: Unit | E7: Number | F7: Number | G7: Allocation | I7: Unit | J7: Number | K7: Number | L7: Allocation | N7: Unit | O7: Number | P7: Number | Q7: Allocation
A8: A | C8: Personnel (Direct-Hires) | D8: # months | E8: # of people | F8: salary | G8: % level of effort | I8: # months | J8: # of people | K8: salary | L8: % level of effort | N8: #months | O8: # of people | P8: salary | Q8: % level of effort
A9: A.1 | C9: HQ-Based personnel
A10: Commisioner
A11: Lead Curator
A12: Additional Curator
A13: Educational Program Staff
A14: A.1.1 | C14: Project Manager | D14: 12 | E14: 1 | F14: 1000 | G14: 1 | H14: =SUM(D14*E14*F14*G14) -> 12000 | I14: 12 | J14: 1 | K14: 100 | L14: 1 | M14: =SUM(I14*J14*K14*L14) -> 1200 | N14: 12 | O14: 1 | P14: 100 | Q14: 1 | R14: =SUM(N14*O14*P14*Q14) -> 1200 | S14: =SUM(H14+M14+R14) -> 14400 | T14: 100 | U14: =S14+T14 -> 14500
A15: A.1.2 | C15: Project Officer, etc. | H15: =SUM(D15*E15*F15*G15) -> 0 | M15: =SUM(I15*J15*K15*L15) -> 0 | R15: =SUM(N15*O15*P15*Q15) -> 0 | S15: =SUM(H15+M15+R15) -> 0 | U15: =S15+T15 -> 0
A16: A.2 | C16: Field Personnel (Direct-Hires)
A17: A.2.1 | C17: Field Director | H17: =SUM(D17*E17*F17*G17) -> 0 | R17: =SUM(N17*O17*P17*Q17) -> 0 | S17: =SUM(H17+M17+R17) -> 0 | U17: =S17+T17 -> 0
A18: A.2.2 | C18: Field Trainer | D18: 12 | E18: 1 | F18: 100 | G18: 1 | H18: =SUM(D18*E18*F18*G18) -> 1200 | M18: =SUM(I18*J18*K18*L18) -> 0 | R18: =SUM(N18*O18*P18*Q18) -> 0 | S18: =SUM(H18+M18+R18) -> 1200 | U18: =S18+T18 -> 1200
A19: Subtotal Personnel | H19: =SUM(H14:H18) -> 13200 | M19: =SUM(M14:M18) -> 1200 | R19: =SUM(R14:R18) -> 1200 | S19: =SUM(S14:S18) -> 15600 | T19: =SUM(T14:T18) -> 100 | U19: =S19+T19 -> 15700
A20: B | C20: Fringe Benefits | D20: # months | E20: % rate per NICRA | F20: salary | G20: % level of effort | I20: # months | J20: % rate per NICRA | K20: salary | L20: % level of effort | N20: # months | O20: % rate per NICRA | P20: salary | Q20: % level of effort
A21: B.1 | C21: HQ-Based Fringe Benefits | D21: 12 | E21: 0.05 | F21: 1000 | G21: 1 | H21: =SUM(D21*E21*F21*G21) -> 600 | I21: 12 | J21: 0.03 | K21: 200 | L21: 1 | M21: =SUM(I21*J21*K21*L21) -> 72 | N21: 12 | O21: 0.02 | P21: 500 | Q21: 0.5 | R21: =SUM(N21*O21*P21*Q21) -> 60 | S21: =SUM(H21+M21+R21) -> 732 | U21: =S21+T21 -> 732
A22: B.2 | C22: Field Fringe Benefits | H22: =SUM(D22*E22*F22*G22) -> 0 | M22: =SUM(I22*J22*K22*L22) -> 0 | R22: =SUM(N22*O22*P22*Q22) -> 0 | S22: =SUM(H22+M22+R22) -> 0 | U22: =S22+T22 -> 0
A23: Subtotal Fringe Benefits | H23: =SUM(H21:H22) -> 600 | M23: =SUM(M21:M22) -> 72 | R23: =SUM(R21:R22) -> 60 | S23: =SUM(S21:S22) -> 732 | T23: =SUM(T21:T22) -> 0 | U23: =S23+T23 -> 732
A24: C | C24: Travel | D24: # people | E24: #days | F24: cost per unit | G24: % | I24: # people | J24: #trips/days | K24: cost | L24: % | N24: # people | O24: #trips/days | P24: cost | Q24: %
A25: C.1 | C25: International Travel (Installation, Vernissage, De-Installation, etc.)
A26: Activity/Purpose - | D26: Activity 1.1….. | I26: Activity 1.1….. | N26: Activity 1.1…..
A27: C.1.1 | C27: Mode - Traveler Name (if name not available, include personnel role) - From & To /RT | D27: 3 | E27: 5 | F27: 600 | G27: 1 | H27: =SUM(D27*E27*F27*G27) -> 9000 | M27: =SUM(I27*J27*K27*L27) -> 0 | R27: =SUM(N27*O27*P27*Q27) -> 0 | S27: =SUM(H27+M27+R27) -> 9000 | U27: =S27+T27 -> 9000
A28: C.1.2 | C28: Lodging | H28: =SUM(D28*E28*F28*G28) -> 0 | M28: =SUM(I28*J28*K28*L28) -> 0 | R28: =SUM(N28*O28*P28*Q28) -> 0 | S28: =SUM(H28+M28+R28) -> 0 | U28: =S28+T28 -> 0
A29: C.1.3 | C29: Per Diem (City, Country) | H29: =SUM(D29*E29*F29*G29) -> 0 | M29: =SUM(I29*J29*K29*L29) -> 0 | R29: =SUM(N29*O29*P29*Q29) -> 0 | S29: =SUM(H29+M29+R29) -> 0 | U29: =S29+T29 -> 0
A30: C.2 | C30: Country Travel
A31: Activity/Purpose - | D31: Activity 2.1….. | I31: Activity 2.1….. | N31: Activity 2.1…..
A32: C.2.1 | C32: Mode - Traveler Name (if name not available, include personnel role) - From & To /RT | H32: =SUM(D32*E32*F32*G32) -> 0 | M32: =SUM(I32*J32*K32*L32) -> 0 | R32: =SUM(N32*O32*P32*Q32) -> 0 | S32: =SUM(H32+M32+R32) -> 0 | U32: =S32+T32 -> 0
A33: C.2.2 | C33: Lodging | H33: =SUM(D33*E33*F33*G33) -> 0 | M33: =SUM(I33*J33*K33*L33) -> 0 | R33: =SUM(N33*O33*P33*Q33) -> 0 | S33: =SUM(H33+M33+R33) -> 0 | U33: =S33+T33 -> 0
A34: C.2.3 | C34: Per Diem (City, Country) | H34: =SUM(D34*E34*F34*G34) -> 0 | M34: =SUM(I34*J34*K34*L34) -> 0 | R34: =SUM(N34*O34*P34*Q34) -> 0 | S34: =SUM(H34+M34+R34) -> 0 | U34: =S34+T34 -> 0
A35: C.3 | C35: Domestic or Monitoring Travel
A36: Activity/Purpose - | D36: Activity 2.1….. | I36: Activity 2.1….. | N36: Activity 2.1…..
A37: C.3.1 | C37: Mode - Traveler Name (if name not available, include personnel role) - From & To /RT | H37: =SUM(D37*E37*F37*G37) -> 0 | M37: =SUM(I37*J37*K37*L37) -> 0 | R37: =SUM(N37*O37*P37*Q37) -> 0 | S37: =SUM(H37+M37+R37) -> 0 | U37: =S37+T37 -> 0
A38: C.3.2 | C38: Lodging | H38: =SUM(D38*E38*F38*G38) -> 0 | M38: =SUM(I38*J38*K38*L38) -> 0 | R38: =SUM(N38*O38*P38*Q38) -> 0 | S38: =SUM(H38+M38+R38) -> 0 | U38: =S38+T38 -> 0
A39: C.3.3 | C39: Per Diem (City, Country) | H39: =SUM(D39*E39*F39*G39) -> 0 | M39: =SUM(I39*J39*K39*L39) -> 0 | R39: =SUM(N39*O39*P39*Q39) -> 0 | S39: =SUM(H39+M39+R39) -> 0 | U39: =S39+T39 -> 0
A40: Subtotal Travel | H40: =SUM(H27:H39) -> 9000 | M40: =SUM(M27:M39) -> 0 | R40: =SUM(R27:R39) -> 0 | S40: =SUM(S27:S39) -> 9000 | T40: =SUM(T27:T39) -> 0 | U40: =S40+T40 -> 9000
A41: D | C41: Equipment (> $10,000 per unit ) | E41: # units | F41: cost per unit | G41: % | J41: number | K41: cost | L41: % | O41: number | P41: cost | Q41: %
...

Sheet 4.SubRecipient Budget (if apl.)
A1: SUB-RECIPIENT BUDGET (if applicable)
A2: Sub-Recipient Organization Name | F2: Organization Name
A3: Project Title | F3: Project Title
A4: Project Duration | F4: Project Title
D6: Cost Breakdown | H6: Requested Federal Funds | I6: Cost-Share by Sub | J6: Program Total
D7: Unit | E7: Number | F7: Amount | G7: Allocation
A8: A | C8: Personnel | D8: # of months or years | E8: # of people | F8: salary (month or year) | G8: % level of effort
A9: A.1 | C9: HQ-Based personnel
A10: A.1.1 | C10: Project Manager | D10: 12 | E10: 1 | F10: 100 | G10: 1 | H10: =D10*E10*F10*G10 -> 1200 | I10: 100 | J10: =H10+I10 -> 1300
A11: A.1.2 | C11: Project Officer, etc. | H11: =D11*E11*F11*G11 -> 0 | J11: =H11+I11 -> 0
A12: A.2 | C12: Field Personnel
A13: A.2.1 | D13: 12 | E13: 1 | F13: 100 | G13: 1 | H13: =D13*E13*F13*G13 -> 1200 | J13: =H13+I13 -> 1200
A14: Subtotal Personnel | H14: =SUM(H10:H13) -> 2400 | I14: =SUM(I10:I13) -> 100 | J14: =H14+I14 -> 2500
A15: B | C15: Fringe Benefits | D15: months or years | E15: % rate per NICRA | F15: salary (month or year) | G15: % level of effort
A16: B.1 | C16: HQ-Based Personnel Fringe Benefits | D16: 12 | E16: 0.06 | F16: 500 | G16: 1 | H16: =D16*E16*F16*G16 -> 360 | J16: =H16+I16 -> 360
A17: B.2 | C17: Field Personnel Fringe Benefits | H17: =D17*E17*F17*G17 -> 0 | J17: =H17+I17 -> 0
A18: Subtotal Fringe Benefits | H18: =SUM(H16:H17) -> 360 | I18: =SUM(I16:I17) -> 0 | J18: =H18+I18 -> 360
A19: C | C19: Travel | D19: # people | E19: # days | F19: cost per unit | G19: %
A20: C.1 | C20: International Travel
A21: Activity/Purpose - | D21: Activity 1.1…..
A22: C.1.1 | C22: Mode - Traveler Name (if name not available, include personnel role) - From & To /RT | D22: 1 | E22: 5 | F22: 750 | G22: 1 | H22: =D22*E22*F22*G22 -> 3750 | J22: =H22+I22 -> 3750
A23: C.1.2 | C23: Lodging | D23: 1 | E23: 5 | F23: 200 | G23: 1 | H23: =D23*E23*F23*G23 -> 1000 | J23: =H23+I23 -> 1000
A24: C.1.3 | C24: Per Diem (City, Country) | D24: 1 | E24: 5 | F24: 100 | G24: 1 | H24: =D24*E24*F24*G24 -> 500 | J24: =H24+I24 -> 500
A25: C.2 | C25: Country Travel
A26: Activity/Purpose - | D26: Activity 2.1…..
A27: C.2.1 | C27: Mode - Traveler Name (if name not available, include personnel role) - From & To /RT | H27: =D27*E27*F27*G27 -> 0 | J27: =H27+I27 -> 0
A28: C.2.2 | C28: Lodging | H28: =D28*E28*F28*G28 -> 0 | J28: =H28+I28 -> 0
A29: C.2.3 | C29: Per Diem (City, Country) | H29: =D29*E29*F29*G29 -> 0 | J29: =H29+I29 -> 0
A30: C.3 | C30: Domestic or Monitoring Travel
A31: Activity/Purpose - | D31: Activity 2.1…..
A32: C.3.1 | C32: Mode - Traveler Name (if name not available, include personnel role) - From & To /RT | H32: =D32*E32*F32*G32 -> 0 | J32: =H32+I32 -> 0
A33: C.3.2 | C33: Lodging | H33: =D33*E33*F33*G33 -> 0 | J33: =H33+I33 -> 0
A34: C.3.3 | C34: Per Diem (City, Country) | H34: =D34*E34*F34*G34 -> 0 | J34: =H34+I34 -> 0
A35: Subtotal Travel | H35: =SUM(H22:H34) -> 5250 | I35: =SUM(I22:I34) -> 0 | J35: =H35+I35 -> 5250
A36: D | C36: Equipment (> $10,000 per unit ) | E36: # units | F36: cost per unit | G36: %
A37: D.1 | C37: Equipment
A38: Activity/Purpose | D38: Activity 2.2
A39: D.1.1 | C39: (description, e.g. generators, etc.) | E39: 1 | F39: 20000 | G39: 1 | H39: =E39*F39*G39 -> 20000 | J39: =H39+I39 -> 20000
A40: D1.2 | C40: (description of equipment purchased for this activity) | H40: =E40*F40*G40 -> 0 | J40: =H40+I40 -> 0
A41: Subtotal Equipment | C41: Sub Total Supplies | H41: =SUM(H39:H40) -> 20000 | I41: =SUM(I39:I39) -> 0 | J41: =H41+I41 -> 20000
...

Sheet 5. MTDC Calculation
A1: Modified Total Direct Costs (MTDC) Calculation
A2: xxxxx
A3: xxxxx
A5: Modified Total Direct Costs (MTDC)
A6: 1) | B6: All direct salaries and wages
B7: A. Personnel | C7: 0
A9: 2) | B9: Applicable fringe benefits
B10: B. Fringe Benefits | C10: 0
A12: 3) | B12: Materials and supplies
B13: E. Supplies | C13: 0
A15: 4) | B15: Services
B16: F. Contractual | C16: 0
B17: H. Other Direct Costs | C17: 0
A19: 5) | B19: Travel
B20: C. Travel | C20: 0
A22: 6) | B22: Up to first $50,000 of each subaward | C22: 0
A24: EXEMPTIONS
B25: Equipment | C25: ='[1]2. Detailed Budget'!J81 -> 0
B26: Capital expenditures | C26: 0
B27: Charges for patient care | C27: 0
B28: Rental costs | C28: 0
B29: Tuition remission | C29: 0
B30: Scholarships and fellowships | C30: 0
B31: Participant support costs | C31: 0
B32: Portion of each subaward in excess of $50,000 | C32: 0
A34: TOTAL | C34: =SUM(C7:C22)-SUM(C25:C32) -> 0
A35: NICRA / 15% De Minimis Indirect Cost Rate | C35: =C34*0.15 -> 0
